BEGIN:VCALENDAR
VERSION:2.0
PRODID:-//SAHPRA - ECPv6.15.20//NONSGML v1.0//EN
CALSCALE:GREGORIAN
METHOD:PUBLISH
X-ORIGINAL-URL:https://www.sahpra.org.za
X-WR-CALDESC:Events for SAHPRA
REFRESH-INTERVAL;VALUE=DURATION:PT1H
X-Robots-Tag:noindex
X-PUBLISHED-TTL:PT1H
BEGIN:VTIMEZONE
TZID:Africa/Johannesburg
BEGIN:STANDARD
TZOFFSETFROM:+0200
TZOFFSETTO:+0200
TZNAME:SAST
DTSTART:20240101T000000
END:STANDARD
END:VTIMEZONE
BEGIN:VEVENT
DTSTART;TZID=Africa/Johannesburg:20250409T140000
DTEND;TZID=Africa/Johannesburg:20250409T160000
DTSTAMP:20260425T225721
CREATED:20250406T184822Z
LAST-MODIFIED:20250410T074558Z
UID:17951-1744207200-1744214400@www.sahpra.org.za
SUMMARY:Session 2 | SAHPRA Engagement Portal Emergency Webinar to Address Processing Issues
DESCRIPTION:The South African Health Products Regulatory Authority (SAHPRA) has become aware of processing issues after the launch of the SAHPRA Engagement Portal on 01 April 2025. \nThis webinar aims to address processing issues around system failures. \nApplicants are encouraged to attend to address issues regarding: \n\nAssistance and guidance to be provided to Industry on managing User Account Profiles to ensure data imports can be linked to correct CIPC entities\nSetting up of Divisions under Legal Entity Accounts\nCompleting missing/incorrect account information\nAccessing Legacy Data Applications and completing missing data fields\nSharing learnings/insights on support log themes\n\nDownload Presentation \n  \nRecording:
URL:https://www.sahpra.org.za/event/session-2-sahpra-engagement-portal-emergency-webinar-to-address-processing-issues/
LOCATION:Virtual
CATEGORIES:Meeting,Webinar
ATTACH;FMTTYPE=image/jpeg:https://www.sahpra.org.za/wp-content/uploads/2025/04/website-mailer-SAHPRA-Engagement-Portal-Emergency-Webinar-to-Address-User-Driven-Issues-S2a.jpg
END:VEVENT
END:VCALENDAR