BEGIN:VCALENDAR
VERSION:2.0
PRODID:-//SAHPRA - ECPv6.15.20//NONSGML v1.0//EN
CALSCALE:GREGORIAN
METHOD:PUBLISH
X-WR-CALNAME:SAHPRA
X-ORIGINAL-URL:https://www.sahpra.org.za
X-WR-CALDESC:Events for SAHPRA
REFRESH-INTERVAL;VALUE=DURATION:PT1H
X-Robots-Tag:noindex
X-PUBLISHED-TTL:PT1H
BEGIN:VTIMEZONE
TZID:Africa/Johannesburg
BEGIN:STANDARD
TZOFFSETFROM:+0200
TZOFFSETTO:+0200
TZNAME:SAST
DTSTART:20240101T000000
END:STANDARD
END:VTIMEZONE
BEGIN:VEVENT
DTSTART;TZID=Africa/Johannesburg:20250422T100000
DTEND;TZID=Africa/Johannesburg:20250422T120000
DTSTAMP:20260425T211243
CREATED:20250404T081104Z
LAST-MODIFIED:20250422T124444Z
UID:17863-1745316000-1745323200@www.sahpra.org.za
SUMMARY:Radiation Control Webinar | Dental Licencing & Compliance
DESCRIPTION:The South African Health Products Regulatory Authority (SAHPRA) hosted an educational and informative webinar to provide support\, guidance\, and encourage compliance within the dental community throughout South Africa. \n\n\n\nTopics Covered \n\nDental sector compliance with the Hazardous Substance act 15 of 1973\nSAHPRA’s services and processes\nBeing more alert to fake SAHPRA licences\nSAHPRA’s licence conditions\n\n  \nPresentations: \n\n\n\n\nM Mpahophe Presentation \nM April Presentation \nL Nobecu Presentation \n  \nRecording:
URL:https://www.sahpra.org.za/event/radiation-control-webinar-dental-licencing-compliance/
LOCATION:Virtual
CATEGORIES:Webinar,Workshop
ATTACH;FMTTYPE=image/jpeg:https://www.sahpra.org.za/wp-content/uploads/2025/03/website-mailer-banner-Dental-Webinar.jpg
END:VEVENT
END:VCALENDAR