BEGIN:VCALENDAR
VERSION:2.0
PRODID:-//SAHPRA - ECPv6.15.20//NONSGML v1.0//EN
CALSCALE:GREGORIAN
METHOD:PUBLISH
X-ORIGINAL-URL:https://www.sahpra.org.za
X-WR-CALDESC:Events for SAHPRA
REFRESH-INTERVAL;VALUE=DURATION:PT1H
X-Robots-Tag:noindex
X-PUBLISHED-TTL:PT1H
BEGIN:VTIMEZONE
TZID:Africa/Johannesburg
BEGIN:STANDARD
TZOFFSETFROM:+0200
TZOFFSETTO:+0200
TZNAME:SAST
DTSTART:20240101T000000
END:STANDARD
END:VTIMEZONE
BEGIN:VEVENT
DTSTART;TZID=Africa/Johannesburg:20250828T090000
DTEND;TZID=Africa/Johannesburg:20250828T120000
DTSTAMP:20260425T133419
CREATED:20250826T123139Z
LAST-MODIFIED:20250901T123157Z
UID:18599-1756371600-1756382400@www.sahpra.org.za
SUMMARY:SAHPRA’s Regulatory Technical Forum (RTF) Virtual Meeting - August 2025
DESCRIPTION:Dear Stakeholder\, \nYou are invited to the South African Health Products Regulatory Authority’s (SAHPRA’s) Regulatory Technical Forum (RTF) Meeting. \nAreas of discussion on the agenda include: \n\nMedicines (Allopathic)\nInspectorate Updates\nVeterinary Medicines\nComplementary Medicines\nInspectorate and Regulatory Compliance\nMedical Devices & IVDs\nLegislation/Guidelines for Comment/Implementation\nIT Upgrade\nFees Update\n\n  \nRecording:\n \nPresentations:\nRTF – New Registrations and Variations\nRTF – BAU New Registrations\, Renewals and Variations (all units) \nFEASIBILITY STUDY: ROAD MAP
URL:https://www.sahpra.org.za/event/sahpras-regulatory-technical-forum-rtf-virtual-meeting-august-2025/
LOCATION:Virtual
CATEGORIES:Meeting,Webinar
ATTACH;FMTTYPE=image/jpeg:https://www.sahpra.org.za/wp-content/uploads/2025/08/mailer-website-SAHPRA-Regulatory-Technical-Forum-RTF-Meeting.jpg
END:VEVENT
END:VCALENDAR