BEGIN:VCALENDAR
VERSION:2.0
PRODID:-//SAHPRA - ECPv6.15.20//NONSGML v1.0//EN
CALSCALE:GREGORIAN
METHOD:PUBLISH
X-ORIGINAL-URL:https://www.sahpra.org.za
X-WR-CALDESC:Events for SAHPRA
REFRESH-INTERVAL;VALUE=DURATION:PT1H
X-Robots-Tag:noindex
X-PUBLISHED-TTL:PT1H
BEGIN:VTIMEZONE
TZID:Africa/Johannesburg
BEGIN:STANDARD
TZOFFSETFROM:+0200
TZOFFSETTO:+0200
TZNAME:SAST
DTSTART:20240101T000000
END:STANDARD
END:VTIMEZONE
BEGIN:VEVENT
DTSTART;TZID=Africa/Johannesburg:20251209T100000
DTEND;TZID=Africa/Johannesburg:20251209T120000
DTSTAMP:20260419T211753
CREATED:20251201T092045Z
LAST-MODIFIED:20260209T131448Z
UID:19018-1765274400-1765281600@www.sahpra.org.za
SUMMARY:Industry Webinar on Product Registration Feasibility Study and Related Activities
DESCRIPTION:SAHPRA invited stakeholders to participate in the Medical Devices Product Registration Feasibility Study and related activities. The engagement focused on collaborating with industry stakeholders on regulatory matters concerning the preliminary report on product registration feasibility\, as well as other communication and position documents published by the Medical Devices Registration Subunit. \n  \nDiscussion Points \n\nUpdate on the product registration feasibility study\nCommunication on veterinary medical devices\nCommunication on AI and Machine Learning\nCommunication/position papers and guidelines\nCollaborative Registration Process (CRP)\n\n  \nDate: Tuesday\, 09 December 2025\nTime: 10:00 – 12:00 \n  \nPresentations\nPublications \nProduct Registration Feasibility Study update \nCommunication on Regulatory requirements for vet medical devices includig IVD’s \n  \nRecording
URL:https://www.sahpra.org.za/event/industry-webinar-on-product-registration-feasibility-study-and-related-activities/
LOCATION:Virtual
CATEGORIES:Meeting,Webinar
ATTACH;FMTTYPE=image/jpeg:https://www.sahpra.org.za/wp-content/uploads/2025/12/mailer-website-Medical-Devices-Unit-Industry-Webinar-on-Product-Registration-Feasibility-and-Related-Activities.jpg
END:VEVENT
END:VCALENDAR