BEGIN:VCALENDAR
VERSION:2.0
PRODID:-//SAHPRA - ECPv6.15.20//NONSGML v1.0//EN
CALSCALE:GREGORIAN
METHOD:PUBLISH
X-WR-CALNAME:SAHPRA
X-ORIGINAL-URL:https://www.sahpra.org.za
X-WR-CALDESC:Events for SAHPRA
REFRESH-INTERVAL;VALUE=DURATION:PT1H
X-Robots-Tag:noindex
X-PUBLISHED-TTL:PT1H
BEGIN:VTIMEZONE
TZID:Africa/Johannesburg
BEGIN:STANDARD
TZOFFSETFROM:+0200
TZOFFSETTO:+0200
TZNAME:SAST
DTSTART:20150101T000000
END:STANDARD
END:VTIMEZONE
BEGIN:VEVENT
DTSTART;TZID=Africa/Johannesburg:20221122T120000
DTEND;TZID=Africa/Johannesburg:20221122T133000
DTSTAMP:20260421T180621
CREATED:20221107T103628Z
LAST-MODIFIED:20221123T101615Z
UID:13046-1669118400-1669123800@www.sahpra.org.za
SUMMARY:Webinar | SAHPRA – What We Do And How We Work
DESCRIPTION:The South African Medical Association\, in collaboration with the South African Health Products Regulatory Authority (SAHPRA)\, invites you to a webinar that will provide a detailed introduction to the regulator and how it ensures the safety\, efficacy and quality of medicines\, medical devices and IVDs in South Africa. \nThe legislative mandates of SAHPRA\, as per the National Health Act\, 2003 (Act No. 61 of 2003); the Medicines and Related Substances Act\, 1965 (Act No. 101 of 1965)\, as amended; and other relevant legislation\, regulations and policies will also be explained. \nWebinar recording
URL:https://www.sahpra.org.za/event/webinar-sahpra-what-we-do-and-how-we-work/
LOCATION:Virtual
CATEGORIES:Webinar
ATTACH;FMTTYPE=image/jpeg:https://www.sahpra.org.za/wp-content/uploads/2022/11/WHAT-WE-DO-AND-HOW-WE-WORK.jpg
END:VEVENT
BEGIN:VEVENT
DTSTART;TZID=Africa/Johannesburg:20221110T090000
DTEND;TZID=Africa/Johannesburg:20221110T103000
DTSTAMP:20260421T180621
CREATED:20221027T102953Z
LAST-MODIFIED:20221110T144824Z
UID:12964-1668070800-1668076200@www.sahpra.org.za
SUMMARY:The Interpretation of Calibration Certificates for Radiation Monitoring instruments
DESCRIPTION:The Radiation Control Unit of the South African Health Products Regulatory Authority (SAHPRA) held a short and free webinar that intends to educate you on how to interpret the calibration certificates for radiation monitoring instruments. \nWe have invited panellists from two sectors to share their knowledge\, experience\, and expertise to begin this conversation by focusing on the: \n\nPrimary objectives of calibration\,\nHow to use calibrated instruments correctly\,\nHow to interpret calibration certificates\, and\nHow to apply the information provided on the certificate.\n\nHear from various speakers within the South African Nuclear Energy Corporation and the National Metrology Institute of South Africa. \nWatch Recording here:
URL:https://www.sahpra.org.za/event/the-interpretation-of-calibration-certificates-for-radiation-monitoring-instruments/
LOCATION:Virtual
CATEGORIES:Webinar
ATTACH;FMTTYPE=image/jpeg:https://www.sahpra.org.za/wp-content/uploads/2022/10/mailer-banner-Interpretation-of-calibration-certificates-for-radiation-monitoring-instruments-1.jpg
END:VEVENT
BEGIN:VEVENT
DTSTART;TZID=Africa/Johannesburg:20221026T120000
DTEND;TZID=Africa/Johannesburg:20221026T130000
DTSTAMP:20260421T180621
CREATED:20221019T075913Z
LAST-MODIFIED:20221027T102522Z
UID:12876-1666785600-1666789200@www.sahpra.org.za
SUMMARY:SAHPRA unpacks global accolade upon receiving WHO Maturity Level 3 (ML3)
DESCRIPTION:The South African Health Products Regulatory Authority (SAHPRA) hosted a conversation on our recent accolade of attaining the World Health Organisation (WHO) Maturity Level 3 (ML3) for vaccine production. \nWe had invited some of our Executives\, CEO Dr. Boitumelo Semete-Makokotlela\, CRO Portia Nkambule\, and COO Christelna Reynecke to unpack this global accolade by sharing insights and the impact of receiving this WHO rating. \nOur conversation focused on: \n\nUnderstanding of the opportunities that come with an ML3 ranking for South Africa\nImproved understanding of the influence of ML3 on the African vaccine production industry\nThe impact of ML3 on the South African economy and its citizens\n\nWatch webinar recording below:
URL:https://www.sahpra.org.za/event/sahpra-unpacks-global-accolade-upon-receiving-who-maturity-level-3-ml3/
LOCATION:Virtual
CATEGORIES:Webinar
ATTACH;FMTTYPE=image/jpeg:https://www.sahpra.org.za/wp-content/uploads/2022/10/mailer-banner-South-Africa-receives-global-recognition-as-a-stable-well-functioning-and-integrated-regulato.jpg
END:VEVENT
BEGIN:VEVENT
DTSTART;TZID=Africa/Johannesburg:20221005T093000
DTEND;TZID=Africa/Johannesburg:20221005T123000
DTSTAMP:20260421T180621
CREATED:20220923T104847Z
LAST-MODIFIED:20221005T191542Z
UID:12705-1664962200-1664973000@www.sahpra.org.za
SUMMARY:Conformity assessment bodies meeting with SANAS
DESCRIPTION:SAHPRA invited all local and foreign Conformity assessment bodies to a joint meeting with SANAS. \nThe session is scheduled as follows: \nDownload Agenda \nRecording below:
URL:https://www.sahpra.org.za/event/conformity-assessment-bodies-meeting-with-sanas/
LOCATION:Virtual
CATEGORIES:Webinar
ATTACH;FMTTYPE=image/jpeg:https://www.sahpra.org.za/wp-content/uploads/2022/09/foreign-Conformity-assessment-bodies-webinar-mailer-banner.jpg
END:VEVENT
BEGIN:VEVENT
DTSTART;TZID=Africa/Johannesburg:20220926T100000
DTEND;TZID=Africa/Johannesburg:20220926T113000
DTSTAMP:20260421T180621
CREATED:20220921T142329Z
LAST-MODIFIED:20220927T074219Z
UID:12683-1664186400-1664191800@www.sahpra.org.za
SUMMARY:A Conversation on Medicine Safety - Increasing Awareness and Reporting of Adverse Events
DESCRIPTION:In commemoration of World Patient Safety Day and World Pharmacist Day (observed annually on 17 and 25 September\, respectively)\, the South African Health Products Regulatory Authority (SAHPRA) hosted a Medicine Safety Webinar on 26 September 2022. \n  \nThe webinar focused on increasing awareness and reporting of adverse events including medication errors\, as we create a healthier world. \n  \nWe have invited panellists from various sectors to share their knowledge\, experience\, and expertise to begin this important conversation focusing on the: \n\nGlobal Perspective on World Patient Safety Day | World Pharmacist Day\nRole of the South African Pharmacy Council (SAPC) in the promotion of medicine safety\nRole of SAHPRA in the promotion of medicine safety | Med Safety App\n\nHear from various speakers within the South African Pharmacy Council\, the University of KwaZulu-Natal and industry. \n  \nWebinar recording:
URL:https://www.sahpra.org.za/event/a-conversation-on-medicine-safety-increasing-awareness-and-reporting-of-adverse-events/
LOCATION:Virtual
CATEGORIES:Webinar
ATTACH;FMTTYPE=image/jpeg:https://www.sahpra.org.za/wp-content/uploads/2022/09/Patient-Safety-Webinar-designs-mailer.jpg
END:VEVENT
BEGIN:VEVENT
DTSTART;TZID=Africa/Johannesburg:20220830T090000
DTEND;TZID=Africa/Johannesburg:20220830T120000
DTSTAMP:20260421T180621
CREATED:20220812T072409Z
LAST-MODIFIED:20220909T085128Z
UID:11996-1661850000-1661860800@www.sahpra.org.za
SUMMARY:Workshop - Pharmacovigilance Systems
DESCRIPTION:The SAHPRA Vigilance and Inspectorate units hosted a workshop on the Pharmacovigilance Systems’ Guideline for Holders of Certificate (HCR). \nThe workshop is scheduled for: \n\nDate: 30 August 2022\nTime: 09h00 – 12h00\nRegistration link: https://bit.ly/pv-systems-workshop\n\nEvent recording: \n﻿
URL:https://www.sahpra.org.za/event/workshop-pharmacovigilance-systems/
LOCATION:Virtual
CATEGORIES:Webinar,Workshop
ATTACH;FMTTYPE=image/jpeg:https://www.sahpra.org.za/wp-content/uploads/2022/08/Workshop-on-Pharmacovigilance-Systems-scaled.jpg
END:VEVENT
BEGIN:VEVENT
DTSTART;TZID=Africa/Johannesburg:20220811T140000
DTEND;TZID=Africa/Johannesburg:20220811T160000
DTSTAMP:20260421T180621
CREATED:20220810T133829Z
LAST-MODIFIED:20220810T133859Z
UID:11965-1660226400-1660233600@www.sahpra.org.za
SUMMARY:Webinar - Good Regulatory Practices and its implementation in the Medical Devices Sector
DESCRIPTION:We are pleased to invite you to participate in an online webinar on “Good Regulatory Practices and its implementation in the Medical Devices Sector” that will take place on 10 and 11 August 2022 under the joint work of the COVID-19 Medical Device Regulatory Convergence Project (MDRC) and the South African Health Products Regulatory Authority (SAHPRA). The program for the event is attached which includes recognized subject matter experts from the World Health Organization and World Trade Organization\, amongst others. \nThis is the first in a series of workshops being organized under the MDRC coordinated efforts with SAHPRA on capacity building with relevant stakeholders regarding the development of capacities on Good Regulatory Practices and Good Reliance Practices for Medical Technology Regulation through the utilization of international references and standards. \nTo participate\, please register via the following link through which you will receive a personalized link to connect to the two sessions \nhttps://us06web.zoom.us/webinar/register/WN__zCfGnPqQO6JRKwrhZpGjQ\nWe look forward to your engagement\,\nSincerely\, \nSandra Ligia González                                                    Dimakatso Mathibe\nTier 2 (MedTech) Lead – MDRC                                      Snr Manager\, Medical Device Unit – SAHPRA\nslgonzalez@standardsalliance-mdrc.org                         dimakatso.mathibe@sahpra.org.za
URL:https://www.sahpra.org.za/event/webinar-good-regulatory-practices-and-its-implementation-in-the-medical-devices-sector/
LOCATION:Virtual
CATEGORIES:Webinar
ATTACH;FMTTYPE=image/jpeg:https://www.sahpra.org.za/wp-content/uploads/2022/08/MDRC-SAPHRA-GRP-Workshop-Generic-webinar-banner-scaled.jpg
END:VEVENT
BEGIN:VEVENT
DTSTART;TZID=Africa/Johannesburg:20220804T090000
DTEND;TZID=Africa/Johannesburg:20220804T103000
DTSTAMP:20260421T180621
CREATED:20220808T085012Z
LAST-MODIFIED:20220808T085831Z
UID:11913-1659603600-1659609000@www.sahpra.org.za
SUMMARY:Webinar: Updates on Adverse events following Immunization
DESCRIPTION:South African Health Products Regulatory Authority (SAHPRA) held a live media briefing where we provide an update on Adverse Events Following Immunisation. Representatives of SAHPRA and the Minister of Health\, Dr Joe Phaahla were in attendance. \nWhen did it happen?\n04 August 2022 \n  \nWatch the webinar recording below:
URL:https://www.sahpra.org.za/event/webinar-updates-on-adverse-events-following-immunization/
LOCATION:Virtual
CATEGORIES:Webinar
ATTACH;FMTTYPE=image/jpeg:https://www.sahpra.org.za/wp-content/uploads/2022/08/AEFI-webianr-4-August-2022-scaled.jpg
END:VEVENT
BEGIN:VEVENT
DTSTART;TZID=Africa/Johannesburg:20220630T090000
DTEND;TZID=Africa/Johannesburg:20220630T103000
DTSTAMP:20260421T180621
CREATED:20220602T090625Z
LAST-MODIFIED:20220630T141449Z
UID:11011-1656579600-1656585000@www.sahpra.org.za
SUMMARY:Webinar: Launch of SAHPRA’s Online OTC Medicines’ directory
DESCRIPTION:South African Health Products Regulatory Authority (SAHPRA) hosted a live webinar launching our new and first-of-its-kind Online Directory for over-the-counter (OTC) medicines in South Africa. \nWhen did it happen?\n30 June 2022 \n  \nWatch webinar recording below:
URL:https://www.sahpra.org.za/event/webinar-launch-of-sahpras-online-otc-medicines-directory/
LOCATION:Virtual
CATEGORIES:Webinar
ATTACH;FMTTYPE=image/jpeg:https://www.sahpra.org.za/wp-content/uploads/2022/06/OTC-inviation-banner-scaled.jpg
END:VEVENT
BEGIN:VEVENT
DTSTART;TZID=Africa/Johannesburg:20220621T103000
DTEND;TZID=Africa/Johannesburg:20220621T120000
DTSTAMP:20260421T180621
CREATED:20220615T092811Z
LAST-MODIFIED:20220622T144212Z
UID:11114-1655807400-1655812800@www.sahpra.org.za
SUMMARY:Webinar: Codeine-Containing Medicines - Unpacking the dangers and abuse
DESCRIPTION:SAHPRA hosted a Live Webinar: Codeine-Containing Medicines – Unpacking the Dangers of Irresponsible Behaviour and Abuse. \nRecording below: \n 
URL:https://www.sahpra.org.za/event/webinar-codeine-containing-medicines-unpacking-the-dangers-and-abuse/
CATEGORIES:Webinar
ATTACH;FMTTYPE=image/jpeg:https://www.sahpra.org.za/wp-content/uploads/2022/06/CODEINE-Inv-2-larger.jpg
END:VEVENT
BEGIN:VEVENT
DTSTART;TZID=Africa/Johannesburg:20220414T090000
DTEND;TZID=Africa/Johannesburg:20220414T123000
DTSTAMP:20260421T180621
CREATED:20220408T085115Z
LAST-MODIFIED:20220424T210941Z
UID:10639-1649926800-1649939400@www.sahpra.org.za
SUMMARY:SAHPRA Industry workshop
DESCRIPTION:The purposes of the webinar are to provide clarification on the responsibilities of SANAS and SAHPRA with regards to Conformity Assessment Bodies (CABs) operating in South Africa and to have a discussion on the renewal process and expectations from the industry and SAHPRA. \nDate: Thursday\, 14 April 2022\nTime: 09h00 – 12h30 \n  \nDownload presentations \n  \n﻿﻿
URL:https://www.sahpra.org.za/event/sahpra-industry-workshop/
LOCATION:Virtual
CATEGORIES:Webinar
ATTACH;FMTTYPE=image/jpeg:https://www.sahpra.org.za/wp-content/uploads/2022/04/SAHPRA-Industry-workshop-invite-banner.jpg
END:VEVENT
BEGIN:VEVENT
DTSTART;TZID=Africa/Johannesburg:20220329T080000
DTEND;TZID=Africa/Johannesburg:20220401T170000
DTSTAMP:20260421T180621
CREATED:20220201T133639Z
LAST-MODIFIED:20260209T130721Z
UID:10177-1648540800-1648832400@www.sahpra.org.za
SUMMARY:3rd World Conference on Pharmacometrics (WCoP)
DESCRIPTION:The South African Health Products Regulatory Authority (SAHPRA) in collaboration with the Bill & Melinda Gates Foundation\, CP+ Associates GmbH and Fundisa African Academy of Medicines Development\, and after consultations with other African Regulators\, convened a regulators expert meeting at the upcoming World Conference on Pharmacometrics (WCOP) that was held in Cape Town\, South Africa in 2022. \nSAHPRA organisers hosted side meetings during the conference where two (2) sessions were convened. The first reported on progress on capacity strengthening for African regulators\, and the second had a specific focus on capacity development for using model-based analyses and pharmacometrics to support regulatory decision making. \nThe meeting was aimed at achieving the following objectives: \nPrimary Objective: Seek alignment and consensus from regulatory leadership on the continent on regulatory science capacity development. \nSecondary Objectives: \n\nExplore options to build capacity in regulatory agencies in Africa\nDetermine tools that would be put in place to assess/grade the level of capacity developed\nExplore approaches to increase regulators capabilities to review clinical data in dossiers\nDevelop a Roadmap for capacity development\nCollate input from other regulators regarding training programmes that should be implemented going forward\n\n Date/Time:  \n\n29 March 2022 – 15:00 – 17:00 SAT\n30 March 2022 – 17:00 – 18:00 SAT \n\nEvent programme Note of Gratitude Download Presentations \n  \nGallery:
URL:https://www.sahpra.org.za/event/3rd-world-conference-on-pharmacometrics-wcop/
LOCATION:Century City Conference Centre\, Cape Town\, Western Cape\, South Africa
CATEGORIES:Hybrid meeting
ATTACH;FMTTYPE=image/jpeg:https://www.sahpra.org.za/wp-content/uploads/2022/02/web-banner-scaled.jpg
END:VEVENT
BEGIN:VEVENT
DTSTART;TZID=Africa/Johannesburg:20220315T100000
DTEND;TZID=Africa/Johannesburg:20220315T113000
DTSTAMP:20260421T180621
CREATED:20220313T105859Z
LAST-MODIFIED:20220708T061121Z
UID:10499-1647338400-1647343800@www.sahpra.org.za
SUMMARY:Vaccine Safety: Side Effects & Adverse Events Following Immunisation (AEFIs) Webinar
DESCRIPTION:As part of its ongoing response to COVID-19 communications and following a series of successful public events\, the South African Health Products Regulatory Authority (SAHPRA) will be hosting a Webinar on “Vaccine Safety and  Adverse Events”. The propose of the Webinar is to provide a platform for dialogue and information sharing on AEFIs. \nDate: Tuesday\, 15 March 2022\nTime: 10h00 – 11h30 \nSpeakers\n1. Prof Hannelie Meyer\, NISEC committee chairperson\n2. Prof Marc Blockman\, Chair of SAHPRA’s Pharmacovigilance advisory committee\n3. Ms Mafora Matlala\, SAHPRA Pharmacovigilance Manager \nDownload speaker bio’s \n  \nWatch recording
URL:https://www.sahpra.org.za/event/vaccine-safety-side-effects-adverse-events-following-immunisation-aefis-webinar/
LOCATION:Virtual
CATEGORIES:Webinar
ATTACH;FMTTYPE=image/jpeg:https://www.sahpra.org.za/wp-content/uploads/2022/03/Vaccine-Safety-Side-Effects-and-Adverse-Events-Following-Immunisation-AEFIs-Webinar.jpg
END:VEVENT
BEGIN:VEVENT
DTSTART;TZID=Africa/Johannesburg:20220221T113000
DTEND;TZID=Africa/Johannesburg:20220221T123000
DTSTAMP:20260421T180621
CREATED:20220218T092157Z
LAST-MODIFIED:20220308T092133Z
UID:10310-1645443000-1645446600@www.sahpra.org.za
SUMMARY:Update on COVID-19 Therapies
DESCRIPTION:SAHPRA was joined by experts to discuss the latest updates on Covid-19 therapies. \nDate: Monday\, 21 February 2022\nTime: 11h30 – 12h30 \nSpeakers\n1. Dr. Boitumelo Semete-Makokotlela\, SAHPRA CEO\n2. Prof. Hannelie Meyer\, NISEC committee chairperson\n3. Prof Andy Parish\, HOD of Internal Medicine (Walter Sisulu University)\n4. Dr Jeremy Nel\, Infectious Diseases Specialist (Wits University) \n﻿﻿
URL:https://www.sahpra.org.za/event/update-on-covid-19-therapies/
CATEGORIES:Webinar
ATTACH;FMTTYPE=image/jpeg:https://www.sahpra.org.za/wp-content/uploads/2022/02/COVID-19-Therapies.jpg
END:VEVENT
BEGIN:VEVENT
DTSTART;TZID=Africa/Johannesburg:20211110T100000
DTEND;TZID=Africa/Johannesburg:20211110T113000
DTSTAMP:20260421T180621
CREATED:20211108T112557Z
LAST-MODIFIED:20211108T112557Z
UID:9416-1636538400-1636543800@www.sahpra.org.za
SUMMARY:Mitigating COVID-19 Vaccine Hesitancy in South Africa
DESCRIPTION:
URL:https://www.sahpra.org.za/event/mitigating-covid-19-vaccine-hesitancy-in-south-africa/
CATEGORIES:Webinar
ATTACH;FMTTYPE=image/jpeg:https://www.sahpra.org.za/wp-content/uploads/2021/11/Mitigating-COVID-19-Vaccine-Hesitancy-in-South-Africa-banner.jpg
END:VEVENT
BEGIN:VEVENT
DTSTART;TZID=Africa/Johannesburg:20211109T123000
DTEND;TZID=Africa/Johannesburg:20211109T133000
DTSTAMP:20260421T180621
CREATED:20211109T144142Z
LAST-MODIFIED:20211109T144405Z
UID:9436-1636461000-1636464600@www.sahpra.org.za
SUMMARY:Enhancing the public trust in COVID-19 vaccination
DESCRIPTION:Enhancing the public trust in COVID-19 vaccination: Progress and challenges in the regulation\, administration and rollout of vaccines in South Africa. \nThe race for countries to reach herd immunity continues globally. The prolonged Covid-19 pandemic has adversely affected the social and economic standing of many nations and South Africa is no exception. While vaccines bring a glimpse of hope the reality remains\, that the successful administration and rollout of Covid-19 vaccines is largely dependent on the enhanced public trust of the vaccines and related institutions. It is also appreciated that the rise of vaccine-related conspiracy theories and myths counter noble global efforts in fighting the Covid-19 Pandemic. \nScifest Africa hosted a  webinar that explored the progress and challenges related to the regulation\, administration and rollout of Covid-19 Vaccines in South Africa. \nThe discussion tackled the role of enhanced public trust in attaining vaccination goals as set by the government. The webinar will also investigate the projected impact of Covid-19 vaccine passports in accelerating vaccination for the South African population. \n\nWatch the video below:
URL:https://www.sahpra.org.za/event/enhancing-the-public-trust-in-covid-19-vaccination/
CATEGORIES:Webinar
ATTACH;FMTTYPE=image/png:https://www.sahpra.org.za/wp-content/uploads/2021/11/Scifest-Nov-2021-3-1.png
END:VEVENT
BEGIN:VEVENT
DTSTART;TZID=Africa/Johannesburg:20210913T110000
DTEND;TZID=Africa/Johannesburg:20210913T123000
DTSTAMP:20260421T180621
CREATED:20210913T135828Z
LAST-MODIFIED:20211026T081720Z
UID:9353-1631530800-1631536200@www.sahpra.org.za
SUMMARY:Self-reporting suspected adverse drug reactions (ADRs) of medicines and vaccines webinar
DESCRIPTION:In February 2021\, South Africa’s National Department of Health (NDoH) embarked on a nationwide COVID-19 vaccine rollout plan. The phased approach to immunisation ramped up in July 2021\, with a record number of individuals (over a million in a single day) registering for their doses. \n 
URL:https://www.sahpra.org.za/event/self-reporting-suspected-adverse-drug-reactions-adrs-of-medicines-and-vaccines-webinar/
LOCATION:Virtual
CATEGORIES:Webinar
ATTACH;FMTTYPE=image/jpeg:https://www.sahpra.org.za/wp-content/uploads/2021/09/Self-reporting-suspected-adverse-drug-reactions-ADRs-of-medicines-and-vaccines-2048x1147-1.jpg
END:VEVENT
BEGIN:VEVENT
DTSTART;TZID=Africa/Johannesburg:20210820T140000
DTEND;TZID=Africa/Johannesburg:20210820T160000
DTSTAMP:20260421T180621
CREATED:20210920T071956Z
LAST-MODIFIED:20211026T080604Z
UID:9181-1629468000-1629475200@www.sahpra.org.za
SUMMARY:AEFI reporting microsite media briefing webinar
DESCRIPTION:The South African Health Products Regulatory Authority (SAHPRA)\, invites you to the launch of the Adverse Events Following Immunisation (AEFI) reporting microsite. \nThe microsite will keep the public updated on reports of adverse events following immunisation (AEFIs) associated with COVID-19 vaccine administration. All medicines\, including vaccines\, can cause side effects. In the case of vaccines\, side effects or adverse events that occur after vaccine administration are known as AEFIs. However\, the benefits of COVID-19 vaccination outweigh the risks. COVID-19 vaccines have proven to prevent severe forms of disease\, hospitalisation and death. \nWatch the webinar below: \n﻿
URL:https://www.sahpra.org.za/event/aefi-reporting-microsite-media-briefing-webinar/
CATEGORIES:Webinar
ATTACH;FMTTYPE=image/jpeg:https://www.sahpra.org.za/wp-content/uploads/2021/09/AEFI-reporting-microsite-banner-2048x784-1.jpg
END:VEVENT
BEGIN:VEVENT
DTSTART;TZID=Africa/Johannesburg:20210701T100000
DTEND;TZID=Africa/Johannesburg:20210701T110000
DTSTAMP:20260421T180621
CREATED:20210920T073310Z
LAST-MODIFIED:20211026T080658Z
UID:9186-1625133600-1625137200@www.sahpra.org.za
SUMMARY:SAHPRA COVID19 Response Webinar
DESCRIPTION:SAHPRA and PATH hosted a webinar panel discussion on the coordinated introduction of COVD19 vaccines and tools and the important role of the South African Health Products Regulatory Authority (SAHPRA) and the National Department of Health in COVID19 vaccine planning and roll-out whilst ensuring equitable access and safety for all South Africans. \nWatch the webinar below: \n﻿
URL:https://www.sahpra.org.za/event/sahpra-covid19-response-webinar/
CATEGORIES:Webinar
ATTACH;FMTTYPE=image/png:https://www.sahpra.org.za/wp-content/uploads/2021/09/image003.png
END:VEVENT
BEGIN:VEVENT
DTSTART;TZID=Africa/Johannesburg:20210624T100000
DTEND;TZID=Africa/Johannesburg:20210624T110000
DTSTAMP:20260421T180621
CREATED:20210920T071448Z
LAST-MODIFIED:20210920T071448Z
UID:9354-1624528800-1624532400@www.sahpra.org.za
SUMMARY:The Process of Vaccine Approval webinar
DESCRIPTION:The normal process for the evaluation of a vaccine necessitates that all the required information regarding product safety\, efficacy and quality be provided at the time of submission. In other words\, all the clinical trial data for safety and efficacy from phase one to three should be provided together with manufacturing information of the product quality. \nIn an effort to respond to the pandemic\, SAHPRA introduced another mechanism to facilitate the review of COVID-19 applications\, which is the rolling review process. The rolling review is a mechanism that facilitates the submission of data as it becomes available. This webinar will focus on the vaccine approval processes. \nWatch the webinar below: \n﻿
URL:https://www.sahpra.org.za/event/the-process-of-vaccine-approval-webinar/
CATEGORIES:Webinar
ATTACH;FMTTYPE=:
END:VEVENT
BEGIN:VEVENT
DTSTART;TZID=Africa/Johannesburg:20161119T090000
DTEND;TZID=Africa/Johannesburg:20161119T160000
DTSTAMP:20260421T180621
CREATED:20220712T075319Z
LAST-MODIFIED:20220712T075319Z
UID:11414-1479546000-1479571200@www.sahpra.org.za
SUMMARY:eCTD Go-live in South Africa
DESCRIPTION:The Medicines Control Council (MCC) went live with eCTD for New Chemical Entities on 01 April 2016\, and the intended go-live date for generic applications is 02 January 2017. \nFind out more
URL:https://www.sahpra.org.za/event/ectd-go-live-in-south-africa/
CATEGORIES:Conference
ATTACH;FMTTYPE=image/jpeg:https://www.sahpra.org.za/wp-content/uploads/2022/07/ectd.jpeg
END:VEVENT
BEGIN:VEVENT
DTSTART;TZID=Africa/Johannesburg:20160705T090000
DTEND;TZID=Africa/Johannesburg:20160710T170000
DTSTAMP:20260421T180621
CREATED:20220712T081846Z
LAST-MODIFIED:20220712T082034Z
UID:11417-1467709200-1468170000@www.sahpra.org.za
SUMMARY:Immunogenicity of Biopharmaceuticals workshop
DESCRIPTION:The International Council for Harmonisation (ICH) met in Osaka\, Japan on 5-10 November 2016. As part of the objective to extend its global outreach\, ICH is pleased to welcome the Agência Nacional de Vigilância Sanitária (ANVISA) from Brazil and the Ministry of Food and Drug Safety (MFDS) from South Korea as the first new regulatory Members\, together with the Biotechnology Innovation Organization (BIO) as a new industry association Member. \nFind out more
URL:https://www.sahpra.org.za/event/immunogenicity-of-biopharmaceuticals-workshop/
LOCATION:Osaka\, Japan\, Japan
CATEGORIES:Workshop
ATTACH;FMTTYPE=image/jpeg:https://www.sahpra.org.za/wp-content/uploads/2022/07/conference-01-1.jpeg
END:VEVENT
END:VCALENDAR