BEGIN:VCALENDAR
VERSION:2.0
PRODID:-//SAHPRA - ECPv6.15.20//NONSGML v1.0//EN
CALSCALE:GREGORIAN
METHOD:PUBLISH
X-WR-CALNAME:SAHPRA
X-ORIGINAL-URL:https://www.sahpra.org.za
X-WR-CALDESC:Events for SAHPRA
REFRESH-INTERVAL;VALUE=DURATION:PT1H
X-Robots-Tag:noindex
X-PUBLISHED-TTL:PT1H
BEGIN:VTIMEZONE
TZID:Africa/Johannesburg
BEGIN:STANDARD
TZOFFSETFROM:+0200
TZOFFSETTO:+0200
TZNAME:SAST
DTSTART:20240101T000000
END:STANDARD
END:VTIMEZONE
BEGIN:VEVENT
DTSTART;TZID=Africa/Johannesburg:20250313T090000
DTEND;TZID=Africa/Johannesburg:20250313T120000
DTSTAMP:20260425T211317
CREATED:20250303T055350Z
LAST-MODIFIED:20250313T120151Z
UID:17706-1741856400-1741867200@www.sahpra.org.za
SUMMARY:SAHPRA’s Regulatory Technical Forum (RTF) Virtual Meeting March 2025
DESCRIPTION:The South African Health Products Regulatory Authority (SAHPRA) recently hosted its Regulatory Technical Forum (RTF) Meeting\, bringing together key industry stakeholders to discuss regulatory updates. \nAreas of discussion on the agenda included: \n\nBAU Applications and Variations\nMedicines (Allopathic)\nVeterinary Medicines\nComplementary Medicines\nInspectorate and Regulatory Compliance\nMedical Devices & IVDs\nRadiation Control\nLegislation/Guidelines for Comment/Implementation\nIT Upgrade\n\n  \nPresentations \nMedical Devices and Radiation Control Presentation \nNew Registrations\, Renewals & Variations \n  \nRecording
URL:https://www.sahpra.org.za/event/sahpras-regulatory-technical-forum-rtf-virtual-meeting-2/
LOCATION:Virtual
CATEGORIES:Meeting,Webinar
ATTACH;FMTTYPE=image/jpeg:https://www.sahpra.org.za/wp-content/uploads/2025/02/mailer-website-banner-SAHPRA-Regulatory-Technical-Forum-RTF-Meeting.jpg
END:VEVENT
BEGIN:VEVENT
DTSTART;TZID=Africa/Johannesburg:20250319T130000
DTEND;TZID=Africa/Johannesburg:20250319T150000
DTSTAMP:20260425T211317
CREATED:20250310T120709Z
LAST-MODIFIED:20250319T172347Z
UID:17764-1742389200-1742396400@www.sahpra.org.za
SUMMARY:Launch of Engagement Portal Webinar
DESCRIPTION:The South African Health Products Regulatory Authority (SAHPRA) is launching an online applications platform. This platform hosted several application processes\, which are enabled across different phases in the overall implementation of their engagement platform. \nWhat was covered?: \n\nHow does the portal work\nHow to submit your applications\nHow to view your application statuses\nHow to load responses\nHow the payment process will work\n\n  \nPresentations\nSAHPRA Engagement Portal presentation \n  \nRecording
URL:https://www.sahpra.org.za/event/launch-of-engagement-portal-webinar/
LOCATION:Virtual
CATEGORIES:Meeting,Webinar
ATTACH;FMTTYPE=image/jpeg:https://www.sahpra.org.za/wp-content/uploads/2025/03/mailer-website-Launch-of-Engagement-Portal2.jpg
END:VEVENT
BEGIN:VEVENT
DTSTART;TZID=Africa/Johannesburg:20250328T100000
DTEND;TZID=Africa/Johannesburg:20250328T110000
DTSTAMP:20260425T211317
CREATED:20250325T081109Z
LAST-MODIFIED:20250328T100934Z
UID:17826-1743156000-1743159600@www.sahpra.org.za
SUMMARY:Industry Awareness Webinar | Introduction to the New S21 Portal
DESCRIPTION:The South African Health Products Regulatory Authority (SAHPRA) hosted an educational and informative webinar to provide broader awareness of the SAHPRA Engagement Portal. This webinar session focused on the submission of Section 21 applications for Category A Medicines (also known as Orthodox or allopathic medicines). \nYou have an opportunity to learn about: \n\nNavigate the SAHPRA Engagement Portal efficiently\nManage user profiles\, including login\, logout\, and password resets\nUnderstand the process of submitting and tracking applications\n\n  \nPresentations \nIntroduction to the New Section 21 Portal \nSAHPRA Engagement Portal S21 Webinar \n  \nRecording
URL:https://www.sahpra.org.za/event/industry-awareness-webinar-introduction-to-the-new-s21-portal/
LOCATION:Virtual
CATEGORIES:Meeting,Webinar
ATTACH;FMTTYPE=image/jpeg:https://www.sahpra.org.za/wp-content/uploads/2025/03/website-S21-Portal-Awareness-Webinar.jpg
END:VEVENT
END:VCALENDAR