BEGIN:VCALENDAR
VERSION:2.0
PRODID:-//SAHPRA - ECPv6.15.20//NONSGML v1.0//EN
CALSCALE:GREGORIAN
METHOD:PUBLISH
X-WR-CALNAME:SAHPRA
X-ORIGINAL-URL:https://www.sahpra.org.za
X-WR-CALDESC:Events for SAHPRA
REFRESH-INTERVAL;VALUE=DURATION:PT1H
X-Robots-Tag:noindex
X-PUBLISHED-TTL:PT1H
BEGIN:VTIMEZONE
TZID:Africa/Johannesburg
BEGIN:STANDARD
TZOFFSETFROM:+0200
TZOFFSETTO:+0200
TZNAME:SAST
DTSTART:20240101T000000
END:STANDARD
END:VTIMEZONE
BEGIN:VEVENT
DTSTART;TZID=Africa/Johannesburg:20250407T140000
DTEND;TZID=Africa/Johannesburg:20250407T160000
DTSTAMP:20260425T193427
CREATED:20250404T173346Z
LAST-MODIFIED:20250408T072130Z
UID:17942-1744034400-1744041600@www.sahpra.org.za
SUMMARY:Session 1 | SAHPRA Engagement Portal Emergency Webinar to Address Processing Issues
DESCRIPTION:The South African Health Products Regulatory Authority (SAHPRA) became aware of processing issues after the launch of the SAHPRA Engagement Portal on 01 April 2025. \nThis webinar aimed to address processing issues around system failures. \nApplicants are encouraged to attend to address issues regarding: \n\nAssistance and guidance to be provided to Industry on managing User Account Profiles to ensure data imports can be linked to correct CIPC entities\nSetting up of Divisions under Legal Entity Accounts\nCompleting missing/incorrect account information\nAccessing Legacy Data Applications and completing missing data fields\nSharing learnings/insights on support log themes\n\nDownload presentation \n  \nRecording:
URL:https://www.sahpra.org.za/event/session-1-sahpra-engagement-portal-emergency-webinar-to-address-processing-issues/
LOCATION:Virtual
CATEGORIES:Meeting,Webinar
ATTACH;FMTTYPE=image/jpeg:https://www.sahpra.org.za/wp-content/uploads/2025/04/website-mailer-SAHPRA-Engagement-Portal-Emergency-Webinar-to-Address-User-Driven-Issues-Session-1.jpg
END:VEVENT
BEGIN:VEVENT
DTSTART;TZID=Africa/Johannesburg:20250409T140000
DTEND;TZID=Africa/Johannesburg:20250409T160000
DTSTAMP:20260425T193427
CREATED:20250406T184822Z
LAST-MODIFIED:20250410T074558Z
UID:17951-1744207200-1744214400@www.sahpra.org.za
SUMMARY:Session 2 | SAHPRA Engagement Portal Emergency Webinar to Address Processing Issues
DESCRIPTION:The South African Health Products Regulatory Authority (SAHPRA) has become aware of processing issues after the launch of the SAHPRA Engagement Portal on 01 April 2025. \nThis webinar aims to address processing issues around system failures. \nApplicants are encouraged to attend to address issues regarding: \n\nAssistance and guidance to be provided to Industry on managing User Account Profiles to ensure data imports can be linked to correct CIPC entities\nSetting up of Divisions under Legal Entity Accounts\nCompleting missing/incorrect account information\nAccessing Legacy Data Applications and completing missing data fields\nSharing learnings/insights on support log themes\n\nDownload Presentation \n  \nRecording:
URL:https://www.sahpra.org.za/event/session-2-sahpra-engagement-portal-emergency-webinar-to-address-processing-issues/
LOCATION:Virtual
CATEGORIES:Meeting,Webinar
ATTACH;FMTTYPE=image/jpeg:https://www.sahpra.org.za/wp-content/uploads/2025/04/website-mailer-SAHPRA-Engagement-Portal-Emergency-Webinar-to-Address-User-Driven-Issues-S2a.jpg
END:VEVENT
BEGIN:VEVENT
DTSTART;TZID=Africa/Johannesburg:20250411T120000
DTEND;TZID=Africa/Johannesburg:20250411T140000
DTSTAMP:20260425T193427
CREATED:20250407T092702Z
LAST-MODIFIED:20250416T081335Z
UID:17953-1744372800-1744380000@www.sahpra.org.za
SUMMARY:Session 3 | SAHPRA Engagement Portal Emergency Webinar to Address Processing Issues
DESCRIPTION:The South African Health Products Regulatory Authority (SAHPRA) has become aware of processing issues after the launch of the SAHPRA Engagement Portal on 01 April 2025. \nThis webinar aims to address processing issues around system failures. \nApplicants are encouraged to attend to address issues regarding: \n\nAssistance and guidance to be provided to Industry on managing User Account Profiles to ensure data imports can be linked to correct CIPC entities\nSetting up of Divisions under Legal Entity Accounts\nCompleting missing/incorrect account information\nAccessing Legacy Data Applications and completing missing data fields\nSharing learnings/insights on support log themes\n\n  \nRecording:
URL:https://www.sahpra.org.za/event/session-3-sahpra-engagement-portal-emergency-webinar-to-address-processing-issues/
LOCATION:Virtual
CATEGORIES:Meeting,Webinar
ATTACH;FMTTYPE=image/jpeg:https://www.sahpra.org.za/wp-content/uploads/2025/04/3website-mailer-SAHPRA-Engagement-Portal-Emergency-Webinar-to-Address-User-Driven-Issues-Session-1.jpg
END:VEVENT
BEGIN:VEVENT
DTSTART;TZID=Africa/Johannesburg:20250415T110000
DTEND;TZID=Africa/Johannesburg:20250415T130000
DTSTAMP:20260425T193427
CREATED:20250414T112115Z
LAST-MODIFIED:20250416T081726Z
UID:18024-1744714800-1744722000@www.sahpra.org.za
SUMMARY:Engagement Portal | Emergency Webinar to address Section 21 portal issues
DESCRIPTION:The South African Health Products Regulatory Authority (SAHPRA) is hosting an Emergency Webinar to address numerous Section 21 technical queries regarding the registration of organisations/ applicants and the submission of applications. \nThis webinar session aims to focus on the submission of Section 21 applications for Category A Medicines (aka Orthodox or Allopathic medicines). \nApplicants are encouraged to attend to address issues regarding: \n\nTimelines involved in phasing in the new portal for Section 21 applications\nProcess of submitting a Section 21 application for Category A Medicines\nHow to access the portal’s user manual\nContact details for ICT technical queries and Section 21 -specific queries\n\nDownload Presentation \n  \nRecording
URL:https://www.sahpra.org.za/event/engagement-portal-emergency-webinar-to-address-the-section-21-portal-issues/
LOCATION:Virtual
CATEGORIES:Meeting,Webinar
ATTACH;FMTTYPE=image/jpeg:https://www.sahpra.org.za/wp-content/uploads/2025/04/website-mailer-S21-Portal-Awareness-Webinar.jpg
END:VEVENT
BEGIN:VEVENT
DTSTART;TZID=Africa/Johannesburg:20250422T100000
DTEND;TZID=Africa/Johannesburg:20250422T120000
DTSTAMP:20260425T193427
CREATED:20250404T081104Z
LAST-MODIFIED:20250422T124444Z
UID:17863-1745316000-1745323200@www.sahpra.org.za
SUMMARY:Radiation Control Webinar | Dental Licencing & Compliance
DESCRIPTION:The South African Health Products Regulatory Authority (SAHPRA) hosted an educational and informative webinar to provide support\, guidance\, and encourage compliance within the dental community throughout South Africa. \n\n\n\nTopics Covered \n\nDental sector compliance with the Hazardous Substance act 15 of 1973\nSAHPRA’s services and processes\nBeing more alert to fake SAHPRA licences\nSAHPRA’s licence conditions\n\n  \nPresentations: \n\n\n\n\nM Mpahophe Presentation \nM April Presentation \nL Nobecu Presentation \n  \nRecording:
URL:https://www.sahpra.org.za/event/radiation-control-webinar-dental-licencing-compliance/
LOCATION:Virtual
CATEGORIES:Webinar,Workshop
ATTACH;FMTTYPE=image/jpeg:https://www.sahpra.org.za/wp-content/uploads/2025/03/website-mailer-banner-Dental-Webinar.jpg
END:VEVENT
END:VCALENDAR