BEGIN:VCALENDAR
VERSION:2.0
PRODID:-//SAHPRA - ECPv6.15.20//NONSGML v1.0//EN
CALSCALE:GREGORIAN
METHOD:PUBLISH
X-ORIGINAL-URL:https://www.sahpra.org.za
X-WR-CALDESC:Events for SAHPRA
REFRESH-INTERVAL;VALUE=DURATION:PT1H
X-Robots-Tag:noindex
X-PUBLISHED-TTL:PT1H
BEGIN:VTIMEZONE
TZID:Africa/Johannesburg
BEGIN:STANDARD
TZOFFSETFROM:+0200
TZOFFSETTO:+0200
TZNAME:SAST
DTSTART:20240101T000000
END:STANDARD
END:VTIMEZONE
BEGIN:VEVENT
DTSTART;TZID=Africa/Johannesburg:20250724T143000
DTEND;TZID=Africa/Johannesburg:20250724T160000
DTSTAMP:20260425T140557
CREATED:20250721T071428Z
LAST-MODIFIED:20250725T123911Z
UID:18450-1753367400-1753372800@www.sahpra.org.za
SUMMARY:Webinar on Engagement Portal - General Updates for Improving User Support
DESCRIPTION:The South African Health Products Regulatory Authority (SAHPRA) hosted a webinar to provide industry with updates on SAHPRA’s Engagement Portal. The session focused on various areas aimed at improving overall user support. \nAttendees learned about: \n\nClarifications on industry fees\nContext and support volumes\nVisibility of API Dashboard Tools\nHPA – Practical “Support” Use Cases\nHPA – General Support Requests\nHPA – Continuous Improvements\nS21 – Practical “Support” Use Cases\nS21 – General Support Requests\n\nParticipants had the opportunity to register beforehand to join the event. \n  \nWatch Recording:
URL:https://www.sahpra.org.za/event/webinar-on-engagement-portal-general-updates-for-improving-user-support/
LOCATION:Virtual
CATEGORIES:Meeting,Webinar
ATTACH;FMTTYPE=image/jpeg:https://www.sahpra.org.za/wp-content/uploads/2025/07/EngagementPortalWebinar24July-banner.jpg
END:VEVENT
END:VCALENDAR