BEGIN:VCALENDAR
VERSION:2.0
PRODID:-//SAHPRA - ECPv6.15.20//NONSGML v1.0//EN
CALSCALE:GREGORIAN
METHOD:PUBLISH
X-WR-CALNAME:SAHPRA
X-ORIGINAL-URL:https://www.sahpra.org.za
X-WR-CALDESC:Events for SAHPRA
REFRESH-INTERVAL;VALUE=DURATION:PT1H
X-Robots-Tag:noindex
X-PUBLISHED-TTL:PT1H
BEGIN:VTIMEZONE
TZID:Africa/Johannesburg
BEGIN:STANDARD
TZOFFSETFROM:+0200
TZOFFSETTO:+0200
TZNAME:SAST
DTSTART:20240101T000000
END:STANDARD
END:VTIMEZONE
BEGIN:VEVENT
DTSTART;TZID=Africa/Johannesburg:20250905T100000
DTEND;TZID=Africa/Johannesburg:20250905T120000
DTSTAMP:20260425T165657
CREATED:20250825T123523Z
LAST-MODIFIED:20250906T074855Z
UID:18588-1757066400-1757073600@www.sahpra.org.za
SUMMARY:Medical Devices Webinar | Industry Meeting on Regulatory Updates and Process Improvements
DESCRIPTION:The South African Health Products Regulatory Authority (SAHPRA) hosted a consultative meeting with industry to communicate updates\, compliance to legislative requirements\, improve the application process\, and enhance overall client service and relations. \nPurpose of the webinar: \n\nUpdate on applicable fees SAHPRA’s services and processes\n\nAnnual retention fees and licence cancellation for non-compliant licence holders\nLicence fees\n\n\nRenewal applications – ISO 13485 certification requirements\nGuidelines for the management of medical device vigilance\nPort health\n\nDate: 05 September 2025\nTime: 10:00 to 12:00 \nPresentation \nMedical Devices Unit | Industry Stakeholder Engagement \n  \nRecording:
URL:https://www.sahpra.org.za/event/medical-devices-webinar-industry-meeting-on-regulatory-updates-and-process-improvements/
LOCATION:Hybrid [Venue: Innovation Hub]
CATEGORIES:Hybrid meeting
ATTACH;FMTTYPE=image/jpeg:https://www.sahpra.org.za/wp-content/uploads/2025/08/website-mail-MD-Webinar-Industry-Meeting-on-Regulatory-Updates-and-Process-Improvements.jpg
END:VEVENT
END:VCALENDAR