BEGIN:VCALENDAR
VERSION:2.0
PRODID:-//SAHPRA - ECPv6.15.20//NONSGML v1.0//EN
CALSCALE:GREGORIAN
METHOD:PUBLISH
X-ORIGINAL-URL:https://www.sahpra.org.za
X-WR-CALDESC:Events for SAHPRA
REFRESH-INTERVAL;VALUE=DURATION:PT1H
X-Robots-Tag:noindex
X-PUBLISHED-TTL:PT1H
BEGIN:VTIMEZONE
TZID:Africa/Johannesburg
BEGIN:STANDARD
TZOFFSETFROM:+0200
TZOFFSETTO:+0200
TZNAME:SAST
DTSTART:20240101T000000
END:STANDARD
END:VTIMEZONE
BEGIN:VEVENT
DTSTART;TZID=Africa/Johannesburg:20250902T130000
DTEND;TZID=Africa/Johannesburg:20250902T170000
DTSTAMP:20260425T151936
CREATED:20250818T124714Z
LAST-MODIFIED:20250903T102126Z
UID:18529-1756818000-1756832400@www.sahpra.org.za
SUMMARY:DHA Side Event | Digital Transformation of Medicines Regulation in Africa Engagement
DESCRIPTION:Inspired by the Digital Health Africa (DHA) Conference 2025\, a side event on the Digital Transformation of Medicines Regulation in Africa was hosted collaboratively by the South African Health Products Regulatory Authority (SAHPRA) and Pharmacometrics Africa. The event featured insightful presentations and dynamic discussions aimed at advancing regulatory innovation across the continent.\n\n\nAreas of discussion on the agenda included:\n\nStrengthening continental collaboration and reliance through digitalisation and AI\n\nIntroduction and overview of AMRH/AMA Digital Ecosystem\nIntroduction to the AMRH/AMA AfriVigilance platform\n\n\nNRA perspectives of their digitalisation and AI journey\n\nDigitalisation journey of MCAZ\nDigitalisation journey of SAHPRA\nGlobal North Regulator experiences\n\n\nRegulating AI as a medical device\nIndustry perspectives\n\n\n\nIndustry perspectives on digitalisation and AI\nTech provider perspectives on AI\n\n\n\n\n\nRecording:
URL:https://www.sahpra.org.za/event/dha-side-event-digital-transformation-of-medicines-regulation-in-africa-engagement/
LOCATION:Hybrid [Venue: Innovation Hub]
CATEGORIES:Hybrid meeting
ATTACH;FMTTYPE=image/jpeg:https://www.sahpra.org.za/wp-content/uploads/2025/08/DHA-side-event-banner.jpg
END:VEVENT
END:VCALENDAR