BEGIN:VCALENDAR
VERSION:2.0
PRODID:-//SAHPRA - ECPv6.15.20//NONSGML v1.0//EN
CALSCALE:GREGORIAN
METHOD:PUBLISH
X-ORIGINAL-URL:https://www.sahpra.org.za
X-WR-CALDESC:Events for SAHPRA
REFRESH-INTERVAL;VALUE=DURATION:PT1H
X-Robots-Tag:noindex
X-PUBLISHED-TTL:PT1H
BEGIN:VTIMEZONE
TZID:Africa/Johannesburg
BEGIN:STANDARD
TZOFFSETFROM:+0200
TZOFFSETTO:+0200
TZNAME:SAST
DTSTART:20250101T000000
END:STANDARD
END:VTIMEZONE
BEGIN:VEVENT
DTSTART;TZID=Africa/Johannesburg:20260310T140000
DTEND;TZID=Africa/Johannesburg:20260310T153000
DTSTAMP:20260419T192609
CREATED:20260304T085200Z
LAST-MODIFIED:20260311T064354Z
UID:19350-1773151200-1773156600@www.sahpra.org.za
SUMMARY:Clinical Trials (Orthodox Medicines): Digital CTF1 Module & Pilot Briefing
DESCRIPTION:SAHPRA hosted a consultative meeting with industry stakeholders to share key updates on the development of the Digital CTF1 Application Module and to provide information regarding the planned pilot phase. The session included project progress updates\, a system demonstration\, and an opportunity for attendees to engage with the team. \n  \nAgenda included: \n\nProject Lifecycle Update\nDemonstration of the Digital CTF1 Application Process\nOverview of the Upcoming Pilot\n\nWatch Recording
URL:https://www.sahpra.org.za/event/clinical-trials-orthodox-medicines-digital-ctf1-module-pilot-briefing/
LOCATION:Virtual
CATEGORIES:Meeting,Webinar
ATTACH;FMTTYPE=image/jpeg:https://www.sahpra.org.za/wp-content/uploads/2026/03/website-mailer-banner-Clinical-Trials-Orthodox-Medicines-Digital-CTF1-Module-Pilot-Briefing.jpg
END:VEVENT
BEGIN:VEVENT
DTSTART;TZID=Africa/Johannesburg:20260326T143000
DTEND;TZID=Africa/Johannesburg:20260326T160000
DTSTAMP:20260419T192609
CREATED:20260325T071054Z
LAST-MODIFIED:20260327T114503Z
UID:19440-1774535400-1774540800@www.sahpra.org.za
SUMMARY:Orientation Webinar on the SAHPRA Portal for New Clinical Trials Application Users
DESCRIPTION:The South African Health Products Regulatory Authority (SAHPRA) hosted a follow-up webinar to guide applicants through key functions on the SAHPRA Portal related to Clinical Trials applications. This practical orientation session assisted users in navigating the system effectively and completing the required actions. \n  \nTopics Covered: \n\nOrientation on registering an account on the SAHPRA Portal\nHow to create an application\nHow to create the Sales Order Form\nHow to upload proof of payment\nHow to view your Accounts Notification Centre\nHow to respond to queries from the SAHPRA unit\nHow to access your application outcome\n\n  \nRecording:
URL:https://www.sahpra.org.za/event/orientation-webinar-on-the-sahpra-portal-for-new-clinical-trials-application-users/
LOCATION:Virtual
CATEGORIES:Meeting,Webinar
ATTACH;FMTTYPE=image/jpeg:https://www.sahpra.org.za/wp-content/uploads/2026/03/teams-banner-Clinical-Trials-Orthodox-Medicines-Digital-CTF1-Module-Pilot-Briefing.jpg
END:VEVENT
END:VCALENDAR