BEGIN:VCALENDAR
VERSION:2.0
PRODID:-//SAHPRA - ECPv6.15.20//NONSGML v1.0//EN
CALSCALE:GREGORIAN
METHOD:PUBLISH
X-WR-CALNAME:SAHPRA
X-ORIGINAL-URL:https://www.sahpra.org.za
X-WR-CALDESC:Events for SAHPRA
REFRESH-INTERVAL;VALUE=DURATION:PT1H
X-Robots-Tag:noindex
X-PUBLISHED-TTL:PT1H
BEGIN:VTIMEZONE
TZID:Africa/Johannesburg
BEGIN:STANDARD
TZOFFSETFROM:+0200
TZOFFSETTO:+0200
TZNAME:SAST
DTSTART:20240101T000000
END:STANDARD
END:VTIMEZONE
BEGIN:VEVENT
DTSTART;TZID=Africa/Johannesburg:20250515T090000
DTEND;TZID=Africa/Johannesburg:20250515T120000
DTSTAMP:20260426T004014
CREATED:20250506T130026Z
LAST-MODIFIED:20250515T103744Z
UID:18076-1747299600-1747310400@www.sahpra.org.za
SUMMARY:SAHPRA’s Regulatory Technical Forum (RTF) Virtual Meeting - May 2025
DESCRIPTION:The South African Health Products Regulatory Authority (SAHPRA) recently hosted its Regulatory Technical Forum (RTF) Meeting\, which brought together key industry stakeholders to discuss regulatory updates. \nAreas of discussion on the agenda included: \n\nMedicines (Allopathic)\nClinical Updates\nVeterinary Medicines\nComplementary Medicines\nInspectorate and Regulatory Compliance\nMedical Devices & IVDs\nLegislation/Guidelines for Comment/Implementation\nIT Upgrade\nSection 21 Updates\n\n  \nPresetations: \nClinical Post-Registrations \nNew Registrations\, Renewals & Variations \nRTF – Medical Device and Radiation Control \nNational Action Plan for SF Medicines \n  \nRecording:
URL:https://www.sahpra.org.za/event/sahpras-regulatory-technical-forum-rtf-virtual-meeting-may-2025/
LOCATION:Virtual
CATEGORIES:Meeting,Webinar
ATTACH;FMTTYPE=image/jpeg:https://www.sahpra.org.za/wp-content/uploads/2025/05/mailer-website-SAHPRA-Regulatory-Technical-Forum-RTF-Meeting.jpg
END:VEVENT
END:VCALENDAR